BEGIN:VCALENDAR
VERSION:2.0
PRODID:-//Εκδηλώσεις Δήμου Αλεξανδρούπολης - ECPv6.15.20//NONSGML v1.0//EN
CALSCALE:GREGORIAN
METHOD:PUBLISH
X-ORIGINAL-URL:https://events.alexpolis.gr
X-WR-CALDESC:Εκδηλώσεις Δήμου Αλεξανδρούπολης - Εκδηλώσεις
REFRESH-INTERVAL;VALUE=DURATION:PT1H
X-Robots-Tag:noindex
X-PUBLISHED-TTL:PT1H
BEGIN:VTIMEZONE
TZID:Europe/Helsinki
BEGIN:DAYLIGHT
TZOFFSETFROM:+0200
TZOFFSETTO:+0300
TZNAME:EEST
DTSTART:20250330T010000
END:DAYLIGHT
BEGIN:STANDARD
TZOFFSETFROM:+0300
TZOFFSETTO:+0200
TZNAME:EET
DTSTART:20251026T010000
END:STANDARD
BEGIN:DAYLIGHT
TZOFFSETFROM:+0200
TZOFFSETTO:+0300
TZNAME:EEST
DTSTART:20260329T010000
END:DAYLIGHT
BEGIN:STANDARD
TZOFFSETFROM:+0300
TZOFFSETTO:+0200
TZNAME:EET
DTSTART:20261025T010000
END:STANDARD
BEGIN:DAYLIGHT
TZOFFSETFROM:+0200
TZOFFSETTO:+0300
TZNAME:EEST
DTSTART:20270328T010000
END:DAYLIGHT
BEGIN:STANDARD
TZOFFSETFROM:+0300
TZOFFSETTO:+0200
TZNAME:EET
DTSTART:20271031T010000
END:STANDARD
END:VTIMEZONE
BEGIN:VEVENT
DTSTART;TZID=Europe/Helsinki:20260212T190000
DTEND;TZID=Europe/Helsinki:20260212T230000
DTSTAMP:20260421T184432
CREATED:20260210T111053Z
LAST-MODIFIED:20260212T123901Z
UID:2759-1770922800-1770937200@events.alexpolis.gr
SUMMARY:Τσικνοπέμπτη στην Αλεξανδρούπολη!
DESCRIPTION:Η Τσικνοπέμπτη έρχεται δυναμικά στην Αλεξανδρούπολη με ένα μεγάλο DJ Party γεμάτο μουσική\, ρυθμό και ατελείωτο κέφι! \nΤην Πέμπτη 12 Φεβρουαρίου 2026\, από τις 7:00 το απόγευμα\, η πόλη μετατρέπεται σε ένα μεγάλο γιορτινό party και υποδέχεται δύο DJ’s\, δημιουργώντας το απόλυτο αποκριάτικο σκηνικό. \nΟι εκδηλώσεις θα πραγματοποιηθούν στον πεζόδρομο Ταχυδρομείου (Ν. Φωκά) \nΜουσική\, χορός και γιορτινή ατμόσφαιρα θα πλημμυρίσουν το κέντρο της πόλης\, καλώντας μικρούς και μεγάλους να γιορτάσουν όλοι μαζί την πιο… καπνιστή ημέρα του χρόνου. \nΦορέστε την πιο γιορτινή σας διάθεση και αφήστε τα υπόλοιπα σε εμάς!\nΣας περιμένουμε όλες και όλους για να τσικνίσουμε και να διασκεδάσουμε παρέα!
URL:https://events.alexpolis.gr/event/%cf%84%cf%83%ce%b9%ce%ba%ce%bd%ce%bf%cf%80%ce%ad%ce%bc%cf%80%cf%84%ce%b7-%cf%83%cf%84%ce%b7%ce%bd-%ce%b1%ce%bb%ce%b5%ce%be%ce%b1%ce%bd%ce%b4%cf%81%ce%bf%cf%8d%cf%80%ce%bf%ce%bb%ce%b7/
LOCATION:Πεζόδρομος Ταχυδρομείου (Ν. Φωκά)\, Greece
CATEGORIES:ΔΕ Αλεξανδρούπολης,Καρναβάλι,Μουσική
ATTACH;FMTTYPE=image/jpeg:https://events.alexpolis.gr/wp-content/uploads/2026/02/fe0f3137-d72f-4ba0-89b8-eabfaca84d10.jpg
END:VEVENT
BEGIN:VEVENT
DTSTART;TZID=Europe/Helsinki:20260215T120000
DTEND;TZID=Europe/Helsinki:20260215T133000
DTSTAMP:20260421T184432
CREATED:20260211T082929Z
LAST-MODIFIED:20260212T123712Z
UID:2763-1771156800-1771162200@events.alexpolis.gr
SUMMARY:ΑΚΥΡΩΘΗΚΕ Την Κυριακή 15 Φεβρουαρίου η μαθητική καρναβαλική παρέλαση στην Αλεξανδρούπολη!
DESCRIPTION:Έρχεται η πιο πολύχρωμη\, χαρούμενη και ξεσηκωτική παρέλαση! Την Κυριακή 15 Φεβρουαρίου στις 12:00\, μαθητές και μαθήτριες σχολείων της Αλεξανδρούπολης βγαίνουν στους δρόμους και μας προσκαλούν σε ένα ξέφρενο αποκριάτικο γλέντι γεμάτο φαντασία\, μουσική και χαμόγελα! \nΜαθητική Καρναβαλική Παρέλαση – Αλεξανδρούπολη \nΕκκίνηση: Πάρκο Ανεξαρτησίας \nΤερματισμός: Πλατεία Ελευθερίας \nΣτο κεντρικό stage θα ακολουθήσει αποκριάτικο πρόγραμμα με χορό και μουσική\, για μικρούς και μεγάλους! \nΦορέστε τις στολές σας\, πάρτε την καλύτερη διάθεση και ελάτε να γίνουμε όλοι μια μεγάλη αποκριάτικη παρέα!
URL:https://events.alexpolis.gr/event/%cf%84%ce%b7%ce%bd-%ce%ba%cf%85%cf%81%ce%b9%ce%b1%ce%ba%ce%ae-15-%cf%86%ce%b5%ce%b2%cf%81%ce%bf%cf%85%ce%b1%cf%81%ce%af%ce%bf%cf%85-%ce%b7-%ce%bc%ce%b1%ce%b8%ce%b7%cf%84%ce%b9%ce%ba%ce%ae-%ce%ba%ce%b1/
LOCATION:Λ. Δημοκρατίας
CATEGORIES:ΔΕ Αλεξανδρούπολης,Μουσική
ATTACH;FMTTYPE=image/jpeg:https://events.alexpolis.gr/wp-content/uploads/2026/02/parelasi-akironete.jpg
END:VEVENT
BEGIN:VEVENT
DTSTART;TZID=Europe/Helsinki:20260222T190000
DTEND;TZID=Europe/Helsinki:20260222T210000
DTSTAMP:20260421T184432
CREATED:20260220T115739Z
LAST-MODIFIED:20260220T115739Z
UID:2828-1771786800-1771794000@events.alexpolis.gr
SUMMARY:Αναβίωση Εθίμου της Καμήλας
DESCRIPTION:
URL:https://events.alexpolis.gr/event/%ce%b1%ce%bd%ce%b1%ce%b2%ce%af%cf%89%cf%83%ce%b7-%ce%b5%ce%b8%ce%af%ce%bc%ce%bf%cf%85-%cf%84%ce%b7%cf%82-%ce%ba%ce%b1%ce%bc%ce%ae%ce%bb%ce%b1%cf%82-2/
LOCATION:Φέρες
CATEGORIES:ΔΕ Φερών,Καρναβάλι,Μουσική
ATTACH;FMTTYPE=image/jpeg:https://events.alexpolis.gr/wp-content/uploads/2026/02/kamila.jpg
END:VEVENT
BEGIN:VEVENT
DTSTART;TZID=Europe/Helsinki:20260223T080000
DTEND;TZID=Europe/Helsinki:20260223T120000
DTSTAMP:20260421T184432
CREATED:20260220T095420Z
LAST-MODIFIED:20260220T095420Z
UID:2794-1771833600-1771848000@events.alexpolis.gr
SUMMARY:Κούλουμα στη Παλαγία
DESCRIPTION:Ο Δήμος Αλεξανδρούπολης προσκαλεί όλους τους δημότες και επισκέπτες να γιορτάσουν την Καθαρά Δευτέρα με τα παραδοσιακά Κούλουμα στα χωριά μας\, σε μια ημέρα γεμάτη χαρά\, παράδοση και ανοιξιάτικη διάθεση.\n\n\nΤη Δευτέρα 23 Φεβρουαρίου\, μικροί και μεγάλοι θα έχουν την ευκαιρία να πετάξουν χαρταετό\, να απολαύσουν παραδοσιακά σαρακοστιανά εδέσματα και να διασκεδάσουν σε γιορτινό κλίμα\, σε διάφορες κοινότητες του Δήμου.\n\n\nΟι εκδηλώσεις θα πραγματοποιηθούν στις εξής περιοχές:\n#Παλαγία\, #Κίρκη\, #Συκορράχη\, #Αισύμη\, #Άβαντας\, #Νίψα\, #Αρίστεινο\, #Δωρικό\, #Λουτρά και στις #Φέρες.\n\n\nΣας περιμένουμε να υποδεχτούμε μαζί τη Σαρακοστή με κέφι\, γεύσεις και καλή παρέα!
URL:https://events.alexpolis.gr/event/%ce%ba%ce%bf%cf%8d%ce%bb%ce%bf%cf%85%ce%bc%ce%b1-%cf%83%cf%84%ce%b7-%cf%80%ce%b1%ce%bb%ce%b1%ce%b3%ce%af%ce%b1/
LOCATION:Παλαγία
CATEGORIES:ΔΕ Αλεξανδρούπολης,Καρναβάλι
ATTACH;FMTTYPE=image/jpeg:https://events.alexpolis.gr/wp-content/uploads/2026/02/KOULOUMA-XORIA-01-1.jpg
END:VEVENT
BEGIN:VEVENT
DTSTART;TZID=Europe/Helsinki:20260223T080000
DTEND;TZID=Europe/Helsinki:20260223T120000
DTSTAMP:20260421T184432
CREATED:20260220T095540Z
LAST-MODIFIED:20260220T095540Z
UID:2797-1771833600-1771848000@events.alexpolis.gr
SUMMARY:Κούλουμα στη Κίρκη
DESCRIPTION:Ο Δήμος Αλεξανδρούπολης προσκαλεί όλους τους δημότες και επισκέπτες να γιορτάσουν την Καθαρά Δευτέρα με τα παραδοσιακά Κούλουμα στα χωριά μας\, σε μια ημέρα γεμάτη χαρά\, παράδοση και ανοιξιάτικη διάθεση.\n\n\nΤη Δευτέρα 23 Φεβρουαρίου\, μικροί και μεγάλοι θα έχουν την ευκαιρία να πετάξουν χαρταετό\, να απολαύσουν παραδοσιακά σαρακοστιανά εδέσματα και να διασκεδάσουν σε γιορτινό κλίμα\, σε διάφορες κοινότητες του Δήμου.\n\n\nΟι εκδηλώσεις θα πραγματοποιηθούν στις εξής περιοχές:\n#Παλαγία\, #Κίρκη\, #Συκορράχη\, #Αισύμη\, #Άβαντας\, #Νίψα\, #Αρίστεινο\, #Δωρικό\, #Λουτρά και στις #Φέρες.\n\n\nΣας περιμένουμε να υποδεχτούμε μαζί τη Σαρακοστή με κέφι\, γεύσεις και καλή παρέα!
URL:https://events.alexpolis.gr/event/%ce%ba%ce%bf%cf%8d%ce%bb%ce%bf%cf%85%ce%bc%ce%b1-%cf%83%cf%84%ce%b7-%ce%ba%ce%af%cf%81%ce%ba%ce%b7/
LOCATION:Οικισμός Κίρκης
CATEGORIES:ΔΕ Αλεξανδρούπολης,Καρναβάλι
ATTACH;FMTTYPE=image/jpeg:https://events.alexpolis.gr/wp-content/uploads/2026/02/KOULOUMA-XORIA-01-1.jpg
END:VEVENT
BEGIN:VEVENT
DTSTART;TZID=Europe/Helsinki:20260223T080000
DTEND;TZID=Europe/Helsinki:20260223T120000
DTSTAMP:20260421T184432
CREATED:20260220T095708Z
LAST-MODIFIED:20260220T095708Z
UID:2799-1771833600-1771848000@events.alexpolis.gr
SUMMARY:Κούλουμα στη Συκορράχη
DESCRIPTION:Ο Δήμος Αλεξανδρούπολης προσκαλεί όλους τους δημότες και επισκέπτες να γιορτάσουν την Καθαρά Δευτέρα με τα παραδοσιακά Κούλουμα στα χωριά μας\, σε μια ημέρα γεμάτη χαρά\, παράδοση και ανοιξιάτικη διάθεση.\n\n\nΤη Δευτέρα 23 Φεβρουαρίου\, μικροί και μεγάλοι θα έχουν την ευκαιρία να πετάξουν χαρταετό\, να απολαύσουν παραδοσιακά σαρακοστιανά εδέσματα και να διασκεδάσουν σε γιορτινό κλίμα\, σε διάφορες κοινότητες του Δήμου.\n\n\nΟι εκδηλώσεις θα πραγματοποιηθούν στις εξής περιοχές:\n#Παλαγία\, #Κίρκη\, #Συκορράχη\, #Αισύμη\, #Άβαντας\, #Νίψα\, #Αρίστεινο\, #Δωρικό\, #Λουτρά και στις #Φέρες.\n\n\nΣας περιμένουμε να υποδεχτούμε μαζί τη Σαρακοστή με κέφι\, γεύσεις και καλή παρέα!
URL:https://events.alexpolis.gr/event/%ce%ba%ce%bf%cf%8d%ce%bb%ce%bf%cf%85%ce%bc%ce%b1-%cf%83%cf%84%ce%b7-%cf%83%cf%85%ce%ba%ce%bf%cf%81%cf%81%ce%ac%cf%87%ce%b7/
LOCATION:Συκορράχη\, Συκορράχη
CATEGORIES:ΔΕ Αλεξανδρούπολης,Καρναβάλι
ATTACH;FMTTYPE=image/jpeg:https://events.alexpolis.gr/wp-content/uploads/2026/02/KOULOUMA-XORIA-01-1.jpg
END:VEVENT
BEGIN:VEVENT
DTSTART;TZID=Europe/Helsinki:20260223T080000
DTEND;TZID=Europe/Helsinki:20260223T120000
DTSTAMP:20260421T184432
CREATED:20260220T095854Z
LAST-MODIFIED:20260220T095854Z
UID:2801-1771833600-1771848000@events.alexpolis.gr
SUMMARY:Κούλουμα στην Αισύμη
DESCRIPTION:Ο Δήμος Αλεξανδρούπολης προσκαλεί όλους τους δημότες και επισκέπτες να γιορτάσουν την Καθαρά Δευτέρα με τα παραδοσιακά Κούλουμα στα χωριά μας\, σε μια ημέρα γεμάτη χαρά\, παράδοση και ανοιξιάτικη διάθεση.\n\n\nΤη Δευτέρα 23 Φεβρουαρίου\, μικροί και μεγάλοι θα έχουν την ευκαιρία να πετάξουν χαρταετό\, να απολαύσουν παραδοσιακά σαρακοστιανά εδέσματα και να διασκεδάσουν σε γιορτινό κλίμα\, σε διάφορες κοινότητες του Δήμου.\n\n\nΟι εκδηλώσεις θα πραγματοποιηθούν στις εξής περιοχές:\n#Παλαγία\, #Κίρκη\, #Συκορράχη\, #Αισύμη\, #Άβαντας\, #Νίψα\, #Αρίστεινο\, #Δωρικό\, #Λουτρά και στις #Φέρες.\n\n\nΣας περιμένουμε να υποδεχτούμε μαζί τη Σαρακοστή με κέφι\, γεύσεις και καλή παρέα!
URL:https://events.alexpolis.gr/event/%ce%ba%ce%bf%cf%8d%ce%bb%ce%bf%cf%85%ce%bc%ce%b1-%cf%83%cf%84%ce%b7%ce%bd-%ce%b1%ce%b9%cf%83%cf%8d%ce%bc%ce%b7/
LOCATION:Αισύμη
CATEGORIES:ΔΕ Αλεξανδρούπολης,Καρναβάλι
ATTACH;FMTTYPE=image/jpeg:https://events.alexpolis.gr/wp-content/uploads/2026/02/KOULOUMA-XORIA-01-1.jpg
END:VEVENT
BEGIN:VEVENT
DTSTART;TZID=Europe/Helsinki:20260223T080000
DTEND;TZID=Europe/Helsinki:20260223T120000
DTSTAMP:20260421T184432
CREATED:20260220T095956Z
LAST-MODIFIED:20260220T095956Z
UID:2804-1771833600-1771848000@events.alexpolis.gr
SUMMARY:Κούλουμα στον Άβαντα
DESCRIPTION:Ο Δήμος Αλεξανδρούπολης προσκαλεί όλους τους δημότες και επισκέπτες να γιορτάσουν την Καθαρά Δευτέρα με τα παραδοσιακά Κούλουμα στα χωριά μας\, σε μια ημέρα γεμάτη χαρά\, παράδοση και ανοιξιάτικη διάθεση.\n\n\nΤη Δευτέρα 23 Φεβρουαρίου\, μικροί και μεγάλοι θα έχουν την ευκαιρία να πετάξουν χαρταετό\, να απολαύσουν παραδοσιακά σαρακοστιανά εδέσματα και να διασκεδάσουν σε γιορτινό κλίμα\, σε διάφορες κοινότητες του Δήμου.\n\n\nΟι εκδηλώσεις θα πραγματοποιηθούν στις εξής περιοχές:\n#Παλαγία\, #Κίρκη\, #Συκορράχη\, #Αισύμη\, #Άβαντας\, #Νίψα\, #Αρίστεινο\, #Δωρικό\, #Λουτρά και στις #Φέρες.\n\n\nΣας περιμένουμε να υποδεχτούμε μαζί τη Σαρακοστή με κέφι\, γεύσεις και καλή παρέα!
URL:https://events.alexpolis.gr/event/%ce%ba%ce%bf%cf%8d%ce%bb%ce%bf%cf%85%ce%bc%ce%b1-%cf%83%cf%84%ce%bf%ce%bd-%ce%ac%ce%b2%ce%b1%ce%bd%cf%84%ce%b1-2/
LOCATION:Γήπεδο Άβαντα\, Άβαντας
CATEGORIES:ΔΕ Αλεξανδρούπολης,Καρναβάλι
ATTACH;FMTTYPE=image/jpeg:https://events.alexpolis.gr/wp-content/uploads/2026/02/KOULOUMA-XORIA-01-1.jpg
END:VEVENT
BEGIN:VEVENT
DTSTART;TZID=Europe/Helsinki:20260223T080000
DTEND;TZID=Europe/Helsinki:20260223T120000
DTSTAMP:20260421T184432
CREATED:20260220T100134Z
LAST-MODIFIED:20260220T100134Z
UID:2806-1771833600-1771848000@events.alexpolis.gr
SUMMARY:Κούλουμα στη Νίψα
DESCRIPTION:Ο Δήμος Αλεξανδρούπολης προσκαλεί όλους τους δημότες και επισκέπτες να γιορτάσουν την Καθαρά Δευτέρα με τα παραδοσιακά Κούλουμα στα χωριά μας\, σε μια ημέρα γεμάτη χαρά\, παράδοση και ανοιξιάτικη διάθεση.\n\n\nΤη Δευτέρα 23 Φεβρουαρίου\, μικροί και μεγάλοι θα έχουν την ευκαιρία να πετάξουν χαρταετό\, να απολαύσουν παραδοσιακά σαρακοστιανά εδέσματα και να διασκεδάσουν σε γιορτινό κλίμα\, σε διάφορες κοινότητες του Δήμου.\n\n\nΟι εκδηλώσεις θα πραγματοποιηθούν στις εξής περιοχές:\n#Παλαγία\, #Κίρκη\, #Συκορράχη\, #Αισύμη\, #Άβαντας\, #Νίψα\, #Αρίστεινο\, #Δωρικό\, #Λουτρά και στις #Φέρες.\n\n\nΣας περιμένουμε να υποδεχτούμε μαζί τη Σαρακοστή με κέφι\, γεύσεις και καλή παρέα!
URL:https://events.alexpolis.gr/event/%ce%ba%ce%bf%cf%8d%ce%bb%ce%bf%cf%85%ce%bc%ce%b1-%cf%83%cf%84%ce%b7-%ce%bd%ce%af%cf%88%ce%b1/
LOCATION:Νίψα
CATEGORIES:ΔΕ Τραϊανούπολης,Καρναβάλι
ATTACH;FMTTYPE=image/jpeg:https://events.alexpolis.gr/wp-content/uploads/2026/02/KOULOUMA-XORIA-01-1.jpg
END:VEVENT
BEGIN:VEVENT
DTSTART;TZID=Europe/Helsinki:20260223T080000
DTEND;TZID=Europe/Helsinki:20260223T120000
DTSTAMP:20260421T184432
CREATED:20260220T100250Z
LAST-MODIFIED:20260220T100250Z
UID:2809-1771833600-1771848000@events.alexpolis.gr
SUMMARY:Κούλουμα στο Αρίστεινο
DESCRIPTION:Ο Δήμος Αλεξανδρούπολης προσκαλεί όλους τους δημότες και επισκέπτες να γιορτάσουν την Καθαρά Δευτέρα με τα παραδοσιακά Κούλουμα στα χωριά μας\, σε μια ημέρα γεμάτη χαρά\, παράδοση και ανοιξιάτικη διάθεση.\n\n\nΤη Δευτέρα 23 Φεβρουαρίου\, μικροί και μεγάλοι θα έχουν την ευκαιρία να πετάξουν χαρταετό\, να απολαύσουν παραδοσιακά σαρακοστιανά εδέσματα και να διασκεδάσουν σε γιορτινό κλίμα\, σε διάφορες κοινότητες του Δήμου.\n\n\nΟι εκδηλώσεις θα πραγματοποιηθούν στις εξής περιοχές:\n#Παλαγία\, #Κίρκη\, #Συκορράχη\, #Αισύμη\, #Άβαντας\, #Νίψα\, #Αρίστεινο\, #Δωρικό\, #Λουτρά και στις #Φέρες.\n\n\nΣας περιμένουμε να υποδεχτούμε μαζί τη Σαρακοστή με κέφι\, γεύσεις και καλή παρέα!
URL:https://events.alexpolis.gr/event/%ce%ba%ce%bf%cf%8d%ce%bb%ce%bf%cf%85%ce%bc%ce%b1-%cf%83%cf%84%ce%bf-%ce%b1%cf%81%ce%af%cf%83%cf%84%ce%b5%ce%b9%ce%bd%ce%bf/
LOCATION:Αρίστεινο
CATEGORIES:ΔΕ Τραϊανούπολης,Καρναβάλι
ATTACH;FMTTYPE=image/jpeg:https://events.alexpolis.gr/wp-content/uploads/2026/02/KOULOUMA-XORIA-01-1.jpg
END:VEVENT
BEGIN:VEVENT
DTSTART;TZID=Europe/Helsinki:20260223T080000
DTEND;TZID=Europe/Helsinki:20260223T120000
DTSTAMP:20260421T184432
CREATED:20260220T100352Z
LAST-MODIFIED:20260220T100352Z
UID:2811-1771833600-1771848000@events.alexpolis.gr
SUMMARY:Κούλουμα στο Δωρικό
DESCRIPTION:Ο Δήμος Αλεξανδρούπολης προσκαλεί όλους τους δημότες και επισκέπτες να γιορτάσουν την Καθαρά Δευτέρα με τα παραδοσιακά Κούλουμα στα χωριά μας\, σε μια ημέρα γεμάτη χαρά\, παράδοση και ανοιξιάτικη διάθεση.\n\n\nΤη Δευτέρα 23 Φεβρουαρίου\, μικροί και μεγάλοι θα έχουν την ευκαιρία να πετάξουν χαρταετό\, να απολαύσουν παραδοσιακά σαρακοστιανά εδέσματα και να διασκεδάσουν σε γιορτινό κλίμα\, σε διάφορες κοινότητες του Δήμου.\n\n\nΟι εκδηλώσεις θα πραγματοποιηθούν στις εξής περιοχές:\n#Παλαγία\, #Κίρκη\, #Συκορράχη\, #Αισύμη\, #Άβαντας\, #Νίψα\, #Αρίστεινο\, #Δωρικό\, #Λουτρά και στις #Φέρες.\n\n\nΣας περιμένουμε να υποδεχτούμε μαζί τη Σαρακοστή με κέφι\, γεύσεις και καλή παρέα!
URL:https://events.alexpolis.gr/event/%ce%ba%ce%bf%cf%8d%ce%bb%ce%bf%cf%85%ce%bc%ce%b1-%cf%83%cf%84%ce%bf-%ce%b4%cf%89%cf%81%ce%b9%ce%ba%cf%8c/
LOCATION:Δωρικό
CATEGORIES:ΔΕ Τραϊανούπολης,Καρναβάλι
ATTACH;FMTTYPE=image/jpeg:https://events.alexpolis.gr/wp-content/uploads/2026/02/KOULOUMA-XORIA-01-1.jpg
END:VEVENT
BEGIN:VEVENT
DTSTART;TZID=Europe/Helsinki:20260223T080000
DTEND;TZID=Europe/Helsinki:20260223T120000
DTSTAMP:20260421T184432
CREATED:20260220T100508Z
LAST-MODIFIED:20260220T100508Z
UID:2813-1771833600-1771848000@events.alexpolis.gr
SUMMARY:Κούλουμα στα Λουτρά
DESCRIPTION:Ο Δήμος Αλεξανδρούπολης προσκαλεί όλους τους δημότες και επισκέπτες να γιορτάσουν την Καθαρά Δευτέρα με τα παραδοσιακά Κούλουμα στα χωριά μας\, σε μια ημέρα γεμάτη χαρά\, παράδοση και ανοιξιάτικη διάθεση.\n\n\nΤη Δευτέρα 23 Φεβρουαρίου\, μικροί και μεγάλοι θα έχουν την ευκαιρία να πετάξουν χαρταετό\, να απολαύσουν παραδοσιακά σαρακοστιανά εδέσματα και να διασκεδάσουν σε γιορτινό κλίμα\, σε διάφορες κοινότητες του Δήμου.\n\n\nΟι εκδηλώσεις θα πραγματοποιηθούν στις εξής περιοχές:\n#Παλαγία\, #Κίρκη\, #Συκορράχη\, #Αισύμη\, #Άβαντας\, #Νίψα\, #Αρίστεινο\, #Δωρικό\, #Λουτρά και στις #Φέρες.\n\n\nΣας περιμένουμε να υποδεχτούμε μαζί τη Σαρακοστή με κέφι\, γεύσεις και καλή παρέα!
URL:https://events.alexpolis.gr/event/%ce%ba%ce%bf%cf%8d%ce%bb%ce%bf%cf%85%ce%bc%ce%b1-%cf%83%cf%84%ce%b1-%ce%bb%ce%bf%cf%85%cf%84%cf%81%ce%ac-2/
LOCATION:Λουτρά
CATEGORIES:ΔΕ Τραϊανούπολης,Καρναβάλι
ATTACH;FMTTYPE=image/jpeg:https://events.alexpolis.gr/wp-content/uploads/2026/02/KOULOUMA-XORIA-01-1.jpg
END:VEVENT
BEGIN:VEVENT
DTSTART;TZID=Europe/Helsinki:20260223T080000
DTEND;TZID=Europe/Helsinki:20260223T120000
DTSTAMP:20260421T184432
CREATED:20260220T100744Z
LAST-MODIFIED:20260220T100744Z
UID:2816-1771833600-1771848000@events.alexpolis.gr
SUMMARY:Κούλουμα στις Φέρες
DESCRIPTION:Ο Δήμος Αλεξανδρούπολης προσκαλεί όλους τους δημότες και επισκέπτες να γιορτάσουν την Καθαρά Δευτέρα με τα παραδοσιακά Κούλουμα στα χωριά μας\, σε μια ημέρα γεμάτη χαρά\, παράδοση και ανοιξιάτικη διάθεση.\n\n\nΤη Δευτέρα 23 Φεβρουαρίου\, μικροί και μεγάλοι θα έχουν την ευκαιρία να πετάξουν χαρταετό\, να απολαύσουν παραδοσιακά σαρακοστιανά εδέσματα και να διασκεδάσουν σε γιορτινό κλίμα\, σε διάφορες κοινότητες του Δήμου.\n\n\nΟι εκδηλώσεις θα πραγματοποιηθούν στις εξής περιοχές:\n#Παλαγία\, #Κίρκη\, #Συκορράχη\, #Αισύμη\, #Άβαντας\, #Νίψα\, #Αρίστεινο\, #Δωρικό\, #Λουτρά και στις #Φέρες.\n\n\nΣας περιμένουμε να υποδεχτούμε μαζί τη Σαρακοστή με κέφι\, γεύσεις και καλή παρέα!
URL:https://events.alexpolis.gr/event/%ce%ba%ce%bf%cf%8d%ce%bb%ce%bf%cf%85%ce%bc%ce%b1-%cf%83%cf%84%ce%b9%cf%82-%cf%86%ce%ad%cf%81%ce%b5%cf%82-2/
LOCATION:Φέρες
CATEGORIES:ΔΕ Φερών,Καρναβάλι
ATTACH;FMTTYPE=image/jpeg:https://events.alexpolis.gr/wp-content/uploads/2026/02/KOULOUMA-XORIA-01-1.jpg
END:VEVENT
BEGIN:VEVENT
DTSTART;TZID=Europe/Helsinki:20260223T100000
DTEND;TZID=Europe/Helsinki:20260223T143000
DTSTAMP:20260421T184432
CREATED:20260220T115843Z
LAST-MODIFIED:20260220T115843Z
UID:2831-1771840800-1771857000@events.alexpolis.gr
SUMMARY:Αναβίωση Εθίμου της Καμήλας
DESCRIPTION:
URL:https://events.alexpolis.gr/event/%ce%b1%ce%bd%ce%b1%ce%b2%ce%af%cf%89%cf%83%ce%b7-%ce%b5%ce%b8%ce%af%ce%bc%ce%bf%cf%85-%cf%84%ce%b7%cf%82-%ce%ba%ce%b1%ce%bc%ce%ae%ce%bb%ce%b1%cf%82-3/
LOCATION:Φέρες
CATEGORIES:ΔΕ Φερών,Καρναβάλι,Μουσική
ATTACH;FMTTYPE=image/jpeg:https://events.alexpolis.gr/wp-content/uploads/2026/02/kamila.jpg
END:VEVENT
BEGIN:VEVENT
DTSTART;TZID=Europe/Helsinki:20260223T120000
DTEND;TZID=Europe/Helsinki:20260223T143000
DTSTAMP:20260421T184432
CREATED:20260220T101016Z
LAST-MODIFIED:20260220T101016Z
UID:2818-1771848000-1771857000@events.alexpolis.gr
SUMMARY:Καρναβαλικη παρέλαση στις Φέρες
DESCRIPTION:
URL:https://events.alexpolis.gr/event/%ce%ba%ce%b1%cf%81%ce%bd%ce%b1%ce%b2%ce%b1%ce%bb%ce%b9%ce%ba%ce%b7-%cf%80%ce%b1%cf%81%ce%ad%ce%bb%ce%b1%cf%83%ce%b7-%cf%83%cf%84%ce%b9%cf%82-%cf%86%ce%ad%cf%81%ce%b5%cf%82/
LOCATION:Φέρες
CATEGORIES:ΔΕ Φερών,Καρναβάλι,Μουσική
ATTACH;FMTTYPE=image/jpeg:https://events.alexpolis.gr/wp-content/uploads/2026/02/parelasi.jpg
END:VEVENT
BEGIN:VEVENT
DTSTART;TZID=Europe/Helsinki:20260223T150000
DTEND;TZID=Europe/Helsinki:20260223T163000
DTSTAMP:20260421T184432
CREATED:20260220T101230Z
LAST-MODIFIED:20260220T101230Z
UID:2821-1771858800-1771864200@events.alexpolis.gr
SUMMARY:Συναυλία με τον Γιώργο Λιβάνη στις Φέρες
DESCRIPTION:
URL:https://events.alexpolis.gr/event/%cf%83%cf%85%ce%bd%ce%b1%cf%85%ce%bb%ce%af%ce%b1-%ce%bc%ce%b5-%cf%84%ce%bf%ce%bd-%ce%b3%ce%b9%cf%8e%cf%81%ce%b3%ce%bf-%ce%bb%ce%b9%ce%b2%ce%ac%ce%bd%ce%b7-%cf%83%cf%84%ce%b9%cf%82-%cf%86%ce%ad%cf%81/
LOCATION:Κεντρική πλατεία Φερών
CATEGORIES:ΔΕ Φερών,Καρναβάλι,Μουσική
ATTACH;FMTTYPE=image/jpeg:https://events.alexpolis.gr/wp-content/uploads/2026/02/livanis.jpg
END:VEVENT
END:VCALENDAR