BEGIN:VCALENDAR
VERSION:2.0
PRODID:-//Εκδηλώσεις Δήμου Αλεξανδρούπολης - ECPv6.15.20//NONSGML v1.0//EN
CALSCALE:GREGORIAN
METHOD:PUBLISH
X-ORIGINAL-URL:https://events.alexpolis.gr
X-WR-CALDESC:Εκδηλώσεις Δήμου Αλεξανδρούπολης - Εκδηλώσεις
REFRESH-INTERVAL;VALUE=DURATION:PT1H
X-Robots-Tag:noindex
X-PUBLISHED-TTL:PT1H
BEGIN:VTIMEZONE
TZID:Europe/Helsinki
BEGIN:DAYLIGHT
TZOFFSETFROM:+0200
TZOFFSETTO:+0300
TZNAME:EEST
DTSTART:20240331T010000
END:DAYLIGHT
BEGIN:STANDARD
TZOFFSETFROM:+0300
TZOFFSETTO:+0200
TZNAME:EET
DTSTART:20241027T010000
END:STANDARD
BEGIN:DAYLIGHT
TZOFFSETFROM:+0200
TZOFFSETTO:+0300
TZNAME:EEST
DTSTART:20250330T010000
END:DAYLIGHT
BEGIN:STANDARD
TZOFFSETFROM:+0300
TZOFFSETTO:+0200
TZNAME:EET
DTSTART:20251026T010000
END:STANDARD
BEGIN:DAYLIGHT
TZOFFSETFROM:+0200
TZOFFSETTO:+0300
TZNAME:EEST
DTSTART:20260329T010000
END:DAYLIGHT
BEGIN:STANDARD
TZOFFSETFROM:+0300
TZOFFSETTO:+0200
TZNAME:EET
DTSTART:20261025T010000
END:STANDARD
END:VTIMEZONE
BEGIN:VEVENT
DTSTART;TZID=Europe/Helsinki:20251031T230000
DTEND;TZID=Europe/Helsinki:20251101T050000
DTSTAMP:20260421T111417
CREATED:20251024T095906Z
LAST-MODIFIED:20251024T100007Z
UID:2040-1761951600-1761973200@events.alexpolis.gr
SUMMARY:Κρητική και Ποντιακή βραδιά με τους Βασίλη Σκούλα & Γαβρίλο Σιδηρόπουλο
DESCRIPTION:
URL:https://events.alexpolis.gr/event/%ce%ba%cf%81%ce%b7%cf%84%ce%b9%ce%ba%ce%ae-%ce%ba%ce%b1%ce%b9-%cf%80%ce%bf%ce%bd%cf%84%ce%b9%ce%b1%ce%ba%ce%ae-%ce%b2%cf%81%ce%b1%ce%b4%ce%b9%ce%ac-%ce%bc%ce%b5-%cf%84%ce%bf%cf%85%cf%82-%ce%b2%ce%b1/
LOCATION:Arion\, 2ο χλμ Αλεξανδρούπολης\, Άβαντος\,\, Αλεξανδρούπολη\, Greece
CATEGORIES:ΔΕ Αλεξανδρούπολης,Μουσική
ATTACH;FMTTYPE=image/jpeg:https://events.alexpolis.gr/wp-content/uploads/2025/10/skoulas-gavrilos.jpg
END:VEVENT
END:VCALENDAR